BEGIN:VCALENDAR
VERSION:2.0
PRODID:-//Event-List//NONSGML Event-List 3.8.0//DE
CALSCALE:GREGORIAN
METHOD:PUBLISH
BEGIN:VEVENT
DTSTAMP:20260422T135828
DTSTART;VALUE=DATE:20120529
DTEND;VALUE=DATE:20120609
UID:20260422T135828@kampfsport-schwabmuenchen.de
SUMMARY:Pfingstferien
DESCRIPTION:[B]Ferien - Training nur nach Absprache oder Sondertraining[/B] 
END:VEVENT
END:VCALENDAR
