BEGIN:VCALENDAR
VERSION:2.0
PRODID:-//Event-List//NONSGML Event-List 3.8.0//DE
CALSCALE:GREGORIAN
METHOD:PUBLISH
BEGIN:VEVENT
DTSTAMP:20260422T135706
DTSTART;VALUE=DATE:20121029
DTEND;VALUE=DATE:20121103
UID:20260422T135706@kampfsport-schwabmuenchen.de
SUMMARY:Herbstferien
DESCRIPTION:[B]Ferien - Training nur nach Absprache oder Sondertraining[/B] 
END:VEVENT
END:VCALENDAR
