BEGIN:VCALENDAR
VERSION:2.0
PRODID:-//Event-List//NONSGML Event-List 3.8.0//DE
CALSCALE:GREGORIAN
METHOD:PUBLISH
BEGIN:VEVENT
DTSTAMP:20260422T121833
DTSTART;VALUE=DATE:20121224
DTEND;VALUE=DATE:20130105
UID:20260422T121833@kampfsport-schwabmuenchen.de
SUMMARY:Weihnachtsferien
DESCRIPTION:[B]Ferien - Training nur nach Absprache oder Sondertraining[/B] 
END:VEVENT
END:VCALENDAR
