BEGIN:VCALENDAR
VERSION:2.0
PRODID:-//Event-List//NONSGML Event-List 3.8.0//DE
CALSCALE:GREGORIAN
METHOD:PUBLISH
BEGIN:VEVENT
DTSTAMP:20260422T134754
DTSTART:20120915T130000
DTEND:20120915T170000
UID:20260422T134754@kampfsport-schwabmuenchen.de
SUMMARY:SV-Lehrgang
CONTACT:Sportschule Schöfer,Armin Schöfer,89331 Burgau,0172-1456492 oder 08222-414877
LOCATION:Sportschule Schöfer, Burgau,Zeppelinstraße 16,89331 Burgau
DESCRIPTION:Realistische Selbstvedrteidigung mit Norbert Petzl (7. Dan Allkampf-Jitsu,
  5. Dan Taekwondo), ehem. Polizei und
  Militärausbilder.\nLehrgangsgebühren: 20,--€
CATEGORIES:Lehrgänge
END:VEVENT
END:VCALENDAR
