BEGIN:VCALENDAR
VERSION:2.0
PRODID:-//Event-List//NONSGML Event-List 3.8.0//DE
CALSCALE:GREGORIAN
METHOD:PUBLISH
BEGIN:VEVENT
DTSTAMP:20260422T134722
DTSTART:20121020T100000
DTEND:20121020T180000
UID:20260422T134722@kampfsport-schwabmuenchen.de
SUMMARY:Allkampf Kampfmeisterschaft mit Formenmeisterschaft
CONTACT:Deutsche Allkampf Union e.V.,Tobias Bestele,Kolpingstraße4, Hauptschulturnhalle,89264 Weißenhorn,0172-8935891
LOCATION:Hauptschulturnhalle, Weißenhorn,Kolpingstraße 4,89264 Weißenhorn
DESCRIPTION:Allkampf Kampfmeisterschaft mit Ländervergleichskampf Deutschland vs.
  Tschechien und Formenmeisterschaft.\nAusschreibungen für die oben
  genannten Meisterschaften siehe unter:
  http://www.deutsche-allkampf-union.com/
CATEGORIES:Meisterschaften
END:VEVENT
END:VCALENDAR
