BEGIN:VCALENDAR
VERSION:2.0
PRODID:-//Event-List//NONSGML Event-List 3.8.0//DE
CALSCALE:GREGORIAN
METHOD:PUBLISH
BEGIN:VEVENT
DTSTAMP:20260422T135824
DTSTART;VALUE=DATE:20120331
DTEND;VALUE=DATE:20120401
UID:20260422T135824@kampfsport-schwabmuenchen.de
SUMMARY:Kinderlehrgang Taekwondo und Allkampf-Jitsu in Schwabmünchen
CONTACT:TSV Schwabmünchen Abteilung Taekwondo/Allkampf,Thomas Heiss,86830 Schwabmünchen,0172-8935891
LOCATION:Leonhard Wagner Sporthalle (LWS) Schwabmünchen (Gymnastikraum der Dreifachturnhallen im 1 OG),Breitweg,86830 Schwabmünchen
DESCRIPTION:Kinderlehrgang Taekwondo und Allkampf-Jitsu in
  Schwabmünchen\n[IMG]http://www.kampfsport-schwabmuenchen.de/grafiken/anfahrt1.jpg[/IMG]
  
CATEGORIES:Lehrgänge
END:VEVENT
END:VCALENDAR
