BEGIN:VCALENDAR
VERSION:2.0
PRODID:-//Event-List//NONSGML Event-List 3.8.0//DE
CALSCALE:GREGORIAN
METHOD:PUBLISH
BEGIN:VEVENT
DTSTAMP:20260422T135835
DTSTART:20120310T090000
UID:20260422T135835@kampfsport-schwabmuenchen.de
SUMMARY:2. Schwaben-Cup
LOCATION:Diedorf
DESCRIPTION:näheres im Training
CATEGORIES:Meisterschaften
END:VEVENT
END:VCALENDAR
