BEGIN:VCALENDAR
VERSION:2.0
PRODID:-//Event-List//NONSGML Event-List 3.8.0//DE
CALSCALE:GREGORIAN
METHOD:PUBLISH
BEGIN:VEVENT
DTSTAMP:20260422T135829
DTSTART;VALUE=DATE:20120428
UID:20260422T135829@kampfsport-schwabmuenchen.de
SUMMARY:Traditionelle Allkampf-Jitsu Meisterschaft
LOCATION:Waldkraiburg
DESCRIPTION:näheres im Training
CATEGORIES:Meisterschaften
END:VEVENT
END:VCALENDAR
