BEGIN:VCALENDAR
VERSION:2.0
PRODID:-//Event-List//NONSGML Event-List 3.8.0//DE
CALSCALE:GREGORIAN
METHOD:PUBLISH
BEGIN:VEVENT
DTSTAMP:20260422T151305
DTSTART;VALUE=DATE:20120512
UID:20260422T151305@kampfsport-schwabmuenchen.de
SUMMARY:6. Landkreismeisterschaft Allkampf-Jitsu
CONTACT:TSV Schwabmünchen Abteilung Taekwondo/Allkampf,Thomas Heiss,86830 Schwabmünchen,0172-8935891
LOCATION:Leonhard Wagner Sporthalle (LWS) Schwabmünchen (Gymnastikraum der Dreifachturnhallen im 1 OG),Breitweg,86830 Schwabmünchen
DESCRIPTION:Landkreismeisterschaft
  Allkampf-Jitsu\n[IMG]http://www.kampfsport-schwabmuenchen.de/grafiken/anfahrt1.jpg[/IMG]
  
CATEGORIES:Meisterschaften
END:VEVENT
END:VCALENDAR
