BEGIN:VCALENDAR
VERSION:2.0
PRODID:-//Event-List//NONSGML Event-List 3.8.0//DE
CALSCALE:GREGORIAN
METHOD:PUBLISH
BEGIN:VEVENT
DTSTAMP:20260422T135646
DTSTART:20120721T150000
UID:20260422T135646@kampfsport-schwabmuenchen.de
SUMMARY:Grillfest der Abteilung
CONTACT:Abteilung Taekwondo/Allkampf
DESCRIPTION:Abteilung Taekwondo/Allkampf
CATEGORIES:Sonstige
END:VEVENT
END:VCALENDAR
