BEGIN:VCALENDAR
VERSION:2.0
PRODID:-//Event-List//NONSGML Event-List 3.8.0//DE
CALSCALE:GREGORIAN
METHOD:PUBLISH
BEGIN:VEVENT
DTSTAMP:20260422T134719
DTSTART:20120407T100000
UID:20260422T134719@kampfsport-schwabmuenchen.de
SUMMARY:Kampfrichterlehrgang
CONTACT:Deutsche Allkampf Union e.V.,Yves Engel
LOCATION:Taekwondo & Allkampf Schule Waldkraiburg,Breslauerstrasse 42, 84478 Waldkraiburg
DESCRIPTION:[B]Kampfrichter-Lehrgang für  traditionellen Allkampf – Jitsu
  Meisterschaften[/B] \nWir laden alle aktiven Kampfrichter, Schulleiter,
  Trainer, Betreuer und alle neuen\nInteressenten zu diesen
  Kampfrichter-Lehrgang ein.\n\nUm in Zukunft die Veranstaltungen nicht nur
  im sportlichen, sondern auch den Betreuern und Trainern eine fundierte
  Ausbildung im Bezug auf das Wettkampfreglement zu ermöglichen.
  ersuchen wir Sie, dieses Angebot zu nützen und uns dabei durch
  Entsendung ihrer Funktionäre zu unterstützen.\n\nSeminarkosten:	€
  25,--	\n\nTeilnahmeberechtigt:	Schwarzgurt ab 18 Jahre	
CATEGORIES:Lehrgänge
END:VEVENT
END:VCALENDAR
