BEGIN:VCALENDAR
VERSION:2.0
PRODID:-//Event-List//NONSGML Event-List 3.8.0//DE
CALSCALE:GREGORIAN
METHOD:PUBLISH
BEGIN:VEVENT
DTSTAMP:20260422T135836
DTSTART;VALUE=DATE:20120505
UID:20260422T135836@kampfsport-schwabmuenchen.de
SUMMARY:Taekwondolehrgang
CONTACT:SV Langenbach e.V.,Joachim Veh, 7. Dan
LOCATION:Langenbach
DESCRIPTION:Taekwondolehrgang\nLiebe Sportfreunde,                                     
   \n\nwir Langenbacher Taekwondoin feiern 2012 unser 25-jähriges
  Bestehen.\nGerne würden wir dieses Jubiläum mit Euch zusammen bei
  einem Lehrgang am 05.05.2012 in 85368 Moosburg an d. Isar begehen.\n\nAls
  Referenten haben schon zugesagt:  \nOktay Cakir, 6. Dan und mehrfacher
  Weltmeister, Hamburg  \nRudolf Grasser, 7. Dan und mehrf. Deutscher
  Meister, Höchberg\nChang Jae-Hee, 7. Dan und 2-maliger korean.
  Militärmeister, München \nDieses Team wird von weiteren
  Großmeistern und Meistern unterstützt!\n\nIm Anschluss an den
  Lehrgang veranstalten wir eine Kampfsport-Gala.\n\nBetrachtet dieses
  Schreiben bitte als Vorabinfo, die Eure sportliche Jahresplanung
  erleichtern soll.\n\nIch wünsche Euch ein gesundes und erfolgreiches
  Jahr 2012\n\nMit herzlichen und sportlichen Grüßen\n\nJoachim
  Veh, 7. Dan
CATEGORIES:Lehrgänge
END:VEVENT
END:VCALENDAR
