BEGIN:VCALENDAR
VERSION:2.0
PRODID:-//Event-List//NONSGML Event-List 3.8.0//DE
CALSCALE:GREGORIAN
METHOD:PUBLISH
BEGIN:VEVENT
DTSTAMP:20260422T135829
DTSTART;VALUE=DATE:20120607
DTEND;VALUE=DATE:20120610
UID:20260422T135829@kampfsport-schwabmuenchen.de
SUMMARY:Freizeit in Südtirol
CONTACT:Abteilung Taekwondo/Allkampf TSV Schwabmünchen,Thomas Heiss
LOCATION:Thalkirchdorf
DESCRIPTION:Freizeit in Südtirol - Baden, Bergwandern, Grillen, Spiel, Spaß
  und natürliche Training\n\nAnsprechpartner Thomas und Peter
CATEGORIES:Sonstige
END:VEVENT
END:VCALENDAR
