BEGIN:VCALENDAR
VERSION:2.0
PRODID:-//Event-List//NONSGML Event-List 3.8.0//DE
CALSCALE:GREGORIAN
METHOD:PUBLISH
BEGIN:VEVENT
DTSTAMP:20260422T135647
DTSTART:20121020T100000
DTEND:20121020T120000
UID:20260422T135647@kampfsport-schwabmuenchen.de
SUMMARY:Training fällt aus !!! 
CONTACT:TSV Schwabmünchen Abteilung Taekwondo/Allkampf,Thomas Heiß,Breitweg 16,86830 Schwabmünchen,0172-8935891
LOCATION: Leonhard Wagner Sporthalle (LWS) Schwabmünchen (Gymnastikraum der Dreifachturnhallen im 1 OG) ,Breitweg 16,86830 Schwabmünchen
DESCRIPTION:Training Prüfungsvorbereitung / Wettkampfriege\nDas Samstagstraining
  endet für Allkämpfer bis Orangegurt um 11:15 Uhr, für
  Taekwondokas bis Grüngurt endet das Samstagstraining ebenfalls um
  11:15 Uhr.
  \n[IMG]http://www.kampfsport-schwabmuenchen.de/grafiken/anfahrt1.jpg[/IMG]
CATEGORIES:Sondertraining
END:VEVENT
END:VCALENDAR
