BEGIN:VCALENDAR
VERSION:2.0
PRODID:-//Event-List//NONSGML Event-List 3.8.0//DE
CALSCALE:GREGORIAN
METHOD:PUBLISH
BEGIN:VEVENT
DTSTAMP:20260422T135824
DTSTART:20121027T100000
DTEND:20121027T180000
UID:20260422T135824@kampfsport-schwabmuenchen.de
SUMMARY:Bayerische Taekwondo Meisterschaft
CONTACT:Budo Center Europa,Rudi Schachtl,Ohmstraße 7, 84137 Vilsbiburg,0170-9296091
LOCATION:Vilstalhalle, Vilsbiburg,Brückenstraße 15,84137 Vilsbiburg
DESCRIPTION:18. Traditionelle Bayerische Taekwondo Meisterschaft\nBassierend auf den
  vier Säulen des traditionellen Taekwondo: Hyong, Sparring, Bruchtest
  und Semikontaktkampf.\nAusschreibung und Regelwerk siehe unter
  http://www.budocenter-europa.com/
CATEGORIES:Meisterschaften
END:VEVENT
END:VCALENDAR
