BEGIN:VCALENDAR
VERSION:2.0
PRODID:-//Event-List//NONSGML Event-List 3.8.0//DE
CALSCALE:GREGORIAN
METHOD:PUBLISH
BEGIN:VEVENT
DTSTAMP:20260422T123036
DTSTART;VALUE=DATE:20130211
DTEND;VALUE=DATE:20130215
UID:20260422T123036@kampfsport-schwabmuenchen.de
SUMMARY:Faschingsferien
DESCRIPTION:Faschingsferien
END:VEVENT
END:VCALENDAR
