BEGIN:VCALENDAR
VERSION:2.0
PRODID:-//Event-List//NONSGML Event-List 3.8.0//DE
CALSCALE:GREGORIAN
METHOD:PUBLISH
BEGIN:VEVENT
DTSTAMP:20260422T121831
DTSTART:20130321T190000
DTEND:20130321T203000
UID:20260422T121831@kampfsport-schwabmuenchen.de
SUMMARY:gemeinsames Training in Großaitingen, kein Training in Schwabmünchen
CONTACT:TSV Schwabmünchen Abteilung Taekwondo/Allkampf,Thomas Heiss,86830 Schwabmünchen,0172-8935891
LOCATION:Sporthalle Schule Großaitigen,Schulstraße,Großaitingen
DESCRIPTION:Allkampf Kampf Training, gemeinsam mit Untermeitigen, Großaitingen
  und Schwabmünchen.\nAnfahrt:Bei der Sparkasse (Ampel) in die
  Poststrasse abbiegen.\n(Weißes Schild Volksschule).\nAn der Kreuzung
  (Gaststätte) rechts in die Friedenstrasse abbiegen.\nNach 30 Metern
  links in die Schulstrasse einbiegen.\nDie Sporthalle liegt ca. 200
  Metern\nweiter auf der linken Seite.\nAuf der rechten Strassenseite sind
  die Parkplätze.\nEingang direkt gegenüber.\n \n
  [IMG]http://www.kampfsport-schwabmuenchen.de/grafiken/Anfahrt_Grossaitingen.jpg[/IMG]
  
CATEGORIES:Sondertraining
END:VEVENT
END:VCALENDAR
