BEGIN:VCALENDAR
VERSION:2.0
PRODID:-//Event-List//NONSGML Event-List 3.8.0//DE
CALSCALE:GREGORIAN
METHOD:PUBLISH
BEGIN:VEVENT
DTSTAMP:20260422T121834
DTSTART:20130124T190000
UID:20260422T121834@kampfsport-schwabmuenchen.de
SUMMARY:Gemeinsames Allkampf Kampftraining in Untermeitingen
CONTACT:TSV Untermeitingen
LOCATION:Sportheim Untermeitingen
DESCRIPTION:Gemeinsames Allkampf Kampftraining
CATEGORIES:Prüfungstermine
END:VEVENT
END:VCALENDAR
