BEGIN:VCALENDAR
VERSION:2.0
PRODID:-//Event-List//NONSGML Event-List 3.8.0//DE
CALSCALE:GREGORIAN
METHOD:PUBLISH
BEGIN:VEVENT
DTSTAMP:20260422T121831
DTSTART:20130209T120000
UID:20260422T121831@kampfsport-schwabmuenchen.de
SUMMARY:Schalengge Rennen Pfronten-Kappel
CONTACT:Kappeler Schalengger Verein e.V.
DESCRIPTION:28. Traditionelles Hornschlitten-Rennen Pfronten-Kappel
CATEGORIES:Sonstige
END:VEVENT
END:VCALENDAR
