BEGIN:VCALENDAR
VERSION:2.0
PRODID:-//Event-List//NONSGML Event-List 3.8.0//DE
CALSCALE:GREGORIAN
METHOD:PUBLISH
BEGIN:VEVENT
DTSTAMP:20260422T121832
DTSTART:20130211T200000
UID:20260422T121832@kampfsport-schwabmuenchen.de
SUMMARY: Rosenmontags-Abrissparty
CONTACT:TSV Schwabmünchen
LOCATION:Jahnhalle
DESCRIPTION: Rosenmontags-Abrissparty
CATEGORIES:Sonstige
END:VEVENT
END:VCALENDAR
