BEGIN:VCALENDAR
VERSION:2.0
PRODID:-//Event-List//NONSGML Event-List 3.8.0//DE
CALSCALE:GREGORIAN
METHOD:PUBLISH
BEGIN:VEVENT
DTSTAMP:20260422T121834
DTSTART:20130216T090000
UID:20260422T121834@kampfsport-schwabmuenchen.de
SUMMARY:Selbstverteidigungslehrgang
CONTACT:AAC Augsburg,Augsburg
LOCATION:Hans-Adelhoch-Str. 34,Augsburg
DESCRIPTION:Selbstverteidigungslehrgang, näheres siehe Anhang
CATEGORIES:Lehrgänge
END:VEVENT
END:VCALENDAR
