BEGIN:VCALENDAR
VERSION:2.0
PRODID:-//Event-List//NONSGML Event-List 3.8.0//DE
CALSCALE:GREGORIAN
METHOD:PUBLISH
BEGIN:VEVENT
DTSTAMP:20260422T121833
DTSTART;VALUE=DATE:20130323
UID:20260422T121833@kampfsport-schwabmuenchen.de
SUMMARY:Bad Kissingen Open
LOCATION:Bad Kissingen
DESCRIPTION:Allkampf und Taekwondo, Bad Kissingen 
CATEGORIES:Meisterschaften
END:VEVENT
END:VCALENDAR
