BEGIN:VCALENDAR
VERSION:2.0
PRODID:-//Event-List//NONSGML Event-List 3.8.0//DE
CALSCALE:GREGORIAN
METHOD:PUBLISH
BEGIN:VEVENT
DTSTAMP:20260422T121833
DTSTART:20130313T180000
UID:20260422T121833@kampfsport-schwabmuenchen.de
SUMMARY:Sportlerehrung des Landkreisaugsburg
CONTACT:Landratsamt Augsburg
LOCATION:Bürgersaal Stadbergen,Am Hopfengarten 12,86391 Stadbergen
DESCRIPTION:29. Sportlerehrung durch den Landkreis Augsburg ,hier Landrat Martin
  Sailer, für Sportler/innen welche im Jahr 2012 Erfolge [B]AB[/B]
  offiziellen Schwäbischen Meisterschaften Feiern konten.
CATEGORIES:Sonstige
END:VEVENT
END:VCALENDAR
